View In:
ArcGIS JavaScript
ArcGIS Online Map Viewer
ArcGIS Earth
Service Description: Imagery/2018_Aerial_Imagery
Name: Imagery/2018_Aerial_Imagery
Description:
Single Fused Map Cache: false
Extent:
XMin: 2157500.0
YMin: 1410000.0
XMax: 2217500.0
YMax: 1470000.0
Spatial Reference: 102667
(2240)
LatestVCSWkid(0)
Initial Extent:
XMin: 2157500.0
YMin: 1410000.0
XMax: 2217500.0
YMax: 1470000.0
Spatial Reference: 102667
(2240)
LatestVCSWkid(0)
Full Extent:
XMin: 2157500.0
YMin: 1410000.0
XMax: 2217500.0
YMax: 1470000.0
Spatial Reference: 102667
(2240)
LatestVCSWkid(0)
Pixel Size X: 0.25
Pixel Size Y: 0.25
Band Count: 4
Pixel Type: U8
RasterFunction Infos: {"rasterFunctionInfos": [{
"name": "None",
"description": "",
"help": ""
}]}
Mensuration Capabilities: Basic
Inspection Capabilities:
Has Histograms: true
Has Colormap: false
Has Multi Dimensions : false
Rendering Rule:
Min Scale: 0
Max Scale: 0
Copyright Text:
Service Data Type: esriImageServiceDataTypeGeneric
Min Values: 51, 43, 25, 0
Max Values: 255, 255, 255, 255
Mean Values: 141.1921861534, 133.39212869865, 119.73858086757, 219.28957196208
Standard Deviation Values: 48.904994482553, 51.519323190164, 56.646928359414, 87.762751326435
Object ID Field:
Fields:
None
Default Mosaic Method: Center
Allowed Mosaic Methods:
SortField:
SortValue: null
Mosaic Operator: First
Default Compression Quality: 75
Default Resampling Method: Bicubic
Max Record Count: null
Max Image Height: 4100
Max Image Width: 15000
Max Download Image Count: null
Max Mosaic Image Count: null
Allow Raster Function: true
Allow Copy: true
Allow Analysis: true
Allow Compute TiePoints: false
Supports Statistics: false
Supports Advanced Queries: false
Use StandardizedQueries: true
Raster Type Infos:
Name: Raster Dataset
Description: Supports all ArcGIS Raster Datasets
Help:
Has Raster Attribute Table: false
Edit Fields Info: null
Ownership Based AccessControl For Rasters: null
Child Resources:
Info
Histograms
Statistics
Key Properties
Legend
Raster Function Infos
Supported Operations:
Export Image
Identify
Measure
Compute Histograms
Compute Statistics Histograms
Get Samples
Compute Class Statistics
Query Boundary
Compute Pixel Location
Compute Angles
Validate
Project