{
 "currentVersion": 11.5,
 "serviceDescription": "Imagery/2008_Aerial_Imagery",
 "serviceItemId": "3aaaaf218b97406dabed4a538725e084",
 "name": "Imagery/2008_Aerial_Imagery",
 "description": "",
 "extent": {
  "xmin": 2152500,
  "ymin": 1405000,
  "xmax": 2212500,
  "ymax": 1470000,
  "spatialReference": {
   "wkid": 102667,
   "latestWkid": 2240
  }
 },
 "initialExtent": {
  "xmin": 2152500,
  "ymin": 1405000,
  "xmax": 2212500,
  "ymax": 1470000,
  "spatialReference": {
   "wkid": 102667,
   "latestWkid": 2240
  }
 },
 "fullExtent": {
  "xmin": 2152500,
  "ymin": 1405000,
  "xmax": 2212500,
  "ymax": 1470000,
  "spatialReference": {
   "wkid": 102667,
   "latestWkid": 2240
  }
 },
 "sortableFields": "",
 "bandCount": 3,
 "pixelType": "U8",
 "minValues": [
  13,
  8,
  24
 ],
 "maxValues": [
  255,
  255,
  255
 ],
 "meanValues": [
  162.42012062322,
  161.70534427877,
  153.53017255822
 ],
 "stdvValues": [
  66.992119474026,
  67.431629725756,
  73.088693478619
 ],
 "serviceProperties": "Center<\/MosaicMethod>First<\/MosaicOperator>true<\/SortAscending><\/LockImageID><\/TileOrderField>0<\/TileOrderBase>0.000000<\/AvgImageSpacingX>0.000000<\/AvgImageSpacingY>0.0<\/ViewPointX>0.0<\/ViewPointY>0.0<\/ViewPointDefShiftX>0.0<\/ViewPointDefShiftY>None<\/CompressionMethod>90<\/CompressionQuality>0.010000<\/CompressionTolerance>Bicubic<\/SamplingMethod><\/ImageServiceProperties><\/ImageServer>",
 "allowedFields": "",
 "hasMultidimensions": false,
 "pixelSizeX": 0.5,
 "pixelSizeY": 0.5,
 "meanPixelSize": 0.15240030480060962,
 "datasetFormat": "MrSID",
 "uncompressedSize": 46800000000,
 "blockWidth": 1024,
 "blockHeight": 128,
 "compressionType": "Wavelet (MG2)",
 "bandNames": [
  "Band_1",
  "Band_2",
  "Band_3"
 ],
 "allowCopy": true,
 "allowAnalysis": true,
 "itemAccess": false,
 "inspectionCapabilities": "",
 "minPixelSize": 0,
 "maxPixelSize": 0,
 "copyrightText": "",
 "serviceDataType": "esriImageServiceDataTypeRGB",
 "serviceSourceType": "esriImageServiceSourceTypeDataset",
 "objectIdField": "",
 "fields": [],
 "capabilities": "Image,Metadata,Mensuration",
 "defaultMosaicMethod": "Center",
 "allowedMosaicMethods": "",
 "sortField": "",
 "sortValue": null,
 "sortAscending": true,
 "mosaicOperator": "First",
 "defaultCompressionQuality": 90,
 "defaultResamplingMethod": "Bicubic",
 "maxImageHeight": 4100,
 "maxImageWidth": 15000,
 "allowRasterFunction": true,
 "rasterFunctionInfos": [
  {
   "name": "None",
   "description": "",
   "help": ""
  }
 ],
 "rasterTypeInfos": [
  {
   "name": "Raster Dataset",
   "description": "Supports all ArcGIS Raster Datasets",
   "help": ""
  }
 ],
 "mensurationCapabilities": "Basic",
 "hasHistograms": true,
 "hasColormap": false,
 "hasRasterAttributeTable": false,
 "minScale": 0,
 "maxScale": 0,
 "exportTilesAllowed": false,
 "supportsStatistics": false,
 "supportsAdvancedQueries": false,
 "editFieldsInfo": null,
 "ownershipBasedAccessControlForRasters": null,
 "allowComputeTiePoints": false,
 "useStandardizedQueries": true,
 "advancedQueryCapabilities": {
  "useStandardizedQueries": true,
  "supportsStatistics": false,
  "supportsOrderBy": false,
  "supportsDistinct": false,
  "supportsPagination": false
 },
 "spatialReference": {
  "wkid": 102667,
  "latestWkid": 2240
 }
}
